{
 "currentVersion": 10.91,
 "serviceDescription": "The National Oceanic and Atmospheric Administration (NOAA) is mandated to acquire hydrographic data to support the safe navigation of maritime commerce throughout the substantial 3.4 million square nautical miles of the United States\u2019 Exclusive Economic Zone (EEZ). While a complete hydrographic survey of the nation\u2019s waters would maximize navigational safety, the large areal extent, coupled with constrained resources in time and money make this infeasible. NOAA recently developed a risk-based model of Hydrographic Health throughout the EEZ to systematically prioritize areas for survey. ",
 "name": "Hydrographic_Services/HydroHealthDesiredSurveyScore_2018",
 "description": "The National Oceanic and Atmospheric Administration (NOAA) is mandated to acquire hydrographic data to support the safe navigation of maritime commerce throughout the substantial 3.4 million square nautical miles of the United States\u2019 Exclusive Economic Zone (EEZ). While a complete hydrographic survey of the nation\u2019s waters would maximize navigational safety, the large areal extent, coupled with constrained resources in time and money make this infeasible. NOAA recently developed a risk-based model of Hydrographic Health throughout the EEZ to systematically prioritize areas for survey. ",
 "extent": {
  "xmin": -1.0427286330673289E7,
  "ymin": -2385007.3705329467,
  "xmax": 3402213.6693267114,
  "ymax": 4933992.629467053,
  "spatialReference": {
   "wkt": "PROJCS[\"NAD_1983_Albers\",GEOGCS[\"GCS_North_American_1983\",DATUM[\"D_North_American_1983\",SPHEROID[\"GRS_1980\",6378137.0,298.257222101]],PRIMEM[\"Greenwich\",0.0],UNIT[\"Degree\",0.0174532925199433]],PROJECTION[\"Albers\"],PARAMETER[\"False_Easting\",0.0],PARAMETER[\"False_Northing\",0.0],PARAMETER[\"Central_Meridian\",-96.0],PARAMETER[\"Standard_Parallel_1\",20.0],PARAMETER[\"Standard_Parallel_2\",60.0],PARAMETER[\"Latitude_Of_Origin\",40.0],UNIT[\"Meter\",1.0]]"
  }
 },
 "initialExtent": {
  "xmin": -1.0427286330673289E7,
  "ymin": -2385007.3705329467,
  "xmax": 3402213.6693267114,
  "ymax": 4933992.629467053,
  "spatialReference": {
   "wkt": "PROJCS[\"NAD_1983_Albers\",GEOGCS[\"GCS_North_American_1983\",DATUM[\"D_North_American_1983\",SPHEROID[\"GRS_1980\",6378137.0,298.257222101]],PRIMEM[\"Greenwich\",0.0],UNIT[\"Degree\",0.0174532925199433]],PROJECTION[\"Albers\"],PARAMETER[\"False_Easting\",0.0],PARAMETER[\"False_Northing\",0.0],PARAMETER[\"Central_Meridian\",-96.0],PARAMETER[\"Standard_Parallel_1\",20.0],PARAMETER[\"Standard_Parallel_2\",60.0],PARAMETER[\"Latitude_Of_Origin\",40.0],UNIT[\"Meter\",1.0]]"
  }
 },
 "fullExtent": {
  "xmin": -1.0427286330673289E7,
  "ymin": -2385007.3705329467,
  "xmax": 3402213.6693267114,
  "ymax": 4933992.629467053,
  "spatialReference": {
   "wkt": "PROJCS[\"NAD_1983_Albers\",GEOGCS[\"GCS_North_American_1983\",DATUM[\"D_North_American_1983\",SPHEROID[\"GRS_1980\",6378137.0,298.257222101]],PRIMEM[\"Greenwich\",0.0],UNIT[\"Degree\",0.0174532925199433]],PROJECTION[\"Albers\"],PARAMETER[\"False_Easting\",0.0],PARAMETER[\"False_Northing\",0.0],PARAMETER[\"Central_Meridian\",-96.0],PARAMETER[\"Standard_Parallel_1\",20.0],PARAMETER[\"Standard_Parallel_2\",60.0],PARAMETER[\"Latitude_Of_Origin\",40.0],UNIT[\"Meter\",1.0]]"
  }
 },
 "hasMultidimensions": false,
 "pixelSizeX": 500,
 "pixelSizeY": 500,
 "datasetFormat": "FGDBR",
 "uncompressedSize": 404872442,
 "blockWidth": 128,
 "blockHeight": 128,
 "compressionType": "LZ77",
 "bandNames": [
  "Band_1"
 ],
 "allowCopy": true,
 "allowAnalysis": true,
 "bandCount": 1,
 "pixelType": "S8",
 "minPixelSize": 0,
 "maxPixelSize": 0,
 "copyrightText": "NOAA Office of Coast Survey, Hydrographic Surveys Division",
 "serviceDataType": "esriImageServiceDataTypeGeneric",
 "serviceSourceType": "esriImageServiceSourceTypeDataset",
 "minValues": [
  10
 ],
 "maxValues": [
  100
 ],
 "meanValues": [
  13.293262700379994
 ],
 "stdvValues": [
  11.37291806486325
 ],
 "objectIdField": "",
 "fields": [],
 "capabilities": "Image,Metadata,Mensuration",
 "defaultMosaicMethod": "Center",
 "allowedMosaicMethods": "",
 "sortField": "",
 "sortValue": null,
 "sortAscending": true,
 "mosaicOperator": "First",
 "defaultCompressionQuality": 75,
 "defaultResamplingMethod": "Bilinear",
 "maxImageHeight": 4100,
 "maxImageWidth": 15000,
 "allowRasterFunction": true,
 "rasterFunctionInfos": [
  {
   "name": "HH2018dss_UniqueValuess",
   "description": "A raster function template.",
   "help": ""
  },
  {
   "name": "None",
   "description": "",
   "help": ""
  }
 ],
 "rasterTypeInfos": [
  {
   "name": "Raster Dataset",
   "description": "Supports all ArcGIS Raster Datasets",
   "help": ""
  }
 ],
 "mensurationCapabilities": "Basic",
 "hasHistograms": true,
 "hasColormap": false,
 "hasRasterAttributeTable": true,
 "minScale": 0,
 "maxScale": 0,
 "exportTilesAllowed": false,
 "supportsStatistics": false,
 "supportsAdvancedQueries": false,
 "editFieldsInfo": null,
 "ownershipBasedAccessControlForRasters": null,
 "allowComputeTiePoints": false,
 "useStandardizedQueries": true,
 "advancedQueryCapabilities": {
  "useStandardizedQueries": true,
  "supportsStatistics": false,
  "supportsOrderBy": false,
  "supportsDistinct": false,
  "supportsPagination": false
 },
 "spatialReference": {
  "wkt": "PROJCS[\"NAD_1983_Albers\",GEOGCS[\"GCS_North_American_1983\",DATUM[\"D_North_American_1983\",SPHEROID[\"GRS_1980\",6378137.0,298.257222101]],PRIMEM[\"Greenwich\",0.0],UNIT[\"Degree\",0.0174532925199433]],PROJECTION[\"Albers\"],PARAMETER[\"False_Easting\",0.0],PARAMETER[\"False_Northing\",0.0],PARAMETER[\"Central_Meridian\",-96.0],PARAMETER[\"Standard_Parallel_1\",20.0],PARAMETER[\"Standard_Parallel_2\",60.0],PARAMETER[\"Latitude_Of_Origin\",40.0],UNIT[\"Meter\",1.0]]"
 }
}
