View In:
ArcGIS JavaScript
ArcGIS Online Map Viewer
ArcGIS Earth
ArcMap
View Footprint In:
ArcGIS Online Map Viewer
Service Description: KBR/KBR_NRT_NL_24April_combined_MBES_feet
Name: KBR/KBR_NRT_NL_24April_combined_MBES_feet
Description:
Single Fused Map Cache: false
Extent:
XMin: 366338.25
YMin: 4339896.75
XMax: 369866.25
YMax: 4344145.75
Spatial Reference: 26918
(26918)
Initial Extent:
XMin: 366338.25
YMin: 4339896.75
XMax: 369866.25
YMax: 4344145.75
Spatial Reference: 26918
(26918)
Full Extent:
XMin: 366338.25
YMin: 4339896.75
XMax: 369866.25
YMax: 4344145.75
Spatial Reference: 26918
(26918)
Pixel Size X: 0.5
Pixel Size Y: 0.5
Band Count: 1
Pixel Type: F32
RasterFunction Infos: {"rasterFunctionInfos": [{
"name": "None",
"description": "",
"help": ""
}]}
Mensuration Capabilities: Basic
Has Histograms: true
Has Colormap: false
Has Multi Dimensions : false
Rendering Rule:
Min Scale: 0
Max Scale: 0
Copyright Text:
Service Data Type: esriImageServiceDataTypeGeneric
Min Values: 9.316658973693848
Max Values: 61.03962326049805
Mean Values: 34.073386263805325
Standard Deviation Values: 15.41505352600153
Object ID Field:
Fields:
None
Default Mosaic Method: Center
Allowed Mosaic Methods:
SortField:
SortValue: null
Mosaic Operator: First
Default Compression Quality: 75
Default Resampling Method: Bilinear
Max Record Count: null
Max Image Height: 4100
Max Image Width: 15000
Max Download Image Count: null
Max Mosaic Image Count: null
Allow Raster Function: true
Allow Copy: true
Allow Analysis: true
Allow Compute TiePoints: false
Supports Statistics: false
Supports Advanced Queries: false
Use StandardizedQueries: true
Raster Type Infos:
Name: Raster Dataset
Description: Supports all ArcGIS Raster Datasets
Help:
Has Raster Attribute Table: false
Edit Fields Info: null
Ownership Based AccessControl For Rasters: null
Child Resources:
Info
Histograms
Statistics
Key Properties
Legend
Raster Function Infos
Supported Operations:
Export Image
Identify
Measure
Compute Histograms
Compute Statistics Histograms
Get Samples
Compute Class Statistics
Query Boundary
Compute Pixel Location
Compute Angles
Validate
Project